BEGIN:VCALENDAR
VERSION:2.0
PRODID:-//wp-events-plugin.com//6.4.6.4//EN
BEGIN:VEVENT
UID:1@bonsai-calendar.com
DTSTART;TZID=Europe/Amsterdam:20240217T090000
DTEND;TZID=Europe/Amsterdam:20240218T170000
DTSTAMP:20231223T170443Z
URL:https://bonsai-calendar.com/events/bonsai-trophy/
SUMMARY:Bonsai Trophy
DESCRIPTION:the bonsai event of the year in NW Europe
ATTACH;FMTTYPE=image/jpeg:https://bonsai-calendar.com/wp-content/uploads/2
 023/12/trophy.jpg
CATEGORIES:Exhibition
LOCATION:Limburghal\, Jaarbeurslaan 6\, Genk\, 3600\, Belgium
X-APPLE-STRUCTURED-LOCATION;VALUE=URI;X-ADDRESS=Jaarbeurslaan 6\, Genk\, 36
 00\, Belgium;X-APPLE-RADIUS=100;X-TITLE=Limburghal:geo:0,0
END:VEVENT
BEGIN:VTIMEZONE
TZID:Europe/Amsterdam
X-LIC-LOCATION:Europe/Amsterdam
BEGIN:STANDARD
DTSTART:20231029T020000
TZOFFSETFROM:+0200
TZOFFSETTO:+0100
TZNAME:CET
END:STANDARD
END:VTIMEZONE
END:VCALENDAR